BEGIN:VCALENDAR
VERSION:2.0
PRODID:-//Wyoming All-State Marching Band - ECPv6.15.9//NONSGML v1.0//EN
CALSCALE:GREGORIAN
METHOD:PUBLISH
X-WR-CALNAME:Wyoming All-State Marching Band
X-ORIGINAL-URL:https://wasmb.org
X-WR-CALDESC:Events for Wyoming All-State Marching Band
REFRESH-INTERVAL;VALUE=DURATION:PT1H
X-Robots-Tag:noindex
X-PUBLISHED-TTL:PT1H
BEGIN:VTIMEZONE
TZID:America/Denver
BEGIN:DAYLIGHT
TZOFFSETFROM:-0700
TZOFFSETTO:-0600
TZNAME:MDT
DTSTART:20250309T090000
END:DAYLIGHT
BEGIN:STANDARD
TZOFFSETFROM:-0600
TZOFFSETTO:-0700
TZNAME:MST
DTSTART:20251102T080000
END:STANDARD
BEGIN:DAYLIGHT
TZOFFSETFROM:-0700
TZOFFSETTO:-0600
TZNAME:MDT
DTSTART:20260308T090000
END:DAYLIGHT
BEGIN:STANDARD
TZOFFSETFROM:-0600
TZOFFSETTO:-0700
TZNAME:MST
DTSTART:20261101T080000
END:STANDARD
BEGIN:DAYLIGHT
TZOFFSETFROM:-0700
TZOFFSETTO:-0600
TZNAME:MDT
DTSTART:20270314T090000
END:DAYLIGHT
BEGIN:STANDARD
TZOFFSETFROM:-0600
TZOFFSETTO:-0700
TZNAME:MST
DTSTART:20271107T080000
END:STANDARD
END:VTIMEZONE
BEGIN:VEVENT
DTSTART;VALUE=DATE:20260615
DTEND;VALUE=DATE:20260619
DTSTAMP:20260423T095405
CREATED:20250815T192329Z
LAST-MODIFIED:20251025T123842Z
UID:223-1781481600-1781827199@wasmb.org
SUMMARY:WASMB Training Camp
DESCRIPTION:
URL:https://wasmb.org/event/wasmb-training-camp/
END:VEVENT
BEGIN:VEVENT
DTSTART;VALUE=DATE:20260702
DTEND;VALUE=DATE:20260705
DTSTAMP:20260423T095405
CREATED:20250815T192449Z
LAST-MODIFIED:20250815T192640Z
UID:226-1782950400-1783209599@wasmb.org
SUMMARY:Cody Stampede Parade
DESCRIPTION:
URL:https://wasmb.org/event/cody-stampede-parade/
END:VEVENT
BEGIN:VEVENT
DTSTART;VALUE=DATE:20260709
DTEND;VALUE=DATE:20260711
DTSTAMP:20260423T095405
CREATED:20250815T192807Z
LAST-MODIFIED:20250815T192807Z
UID:230-1783555200-1783727999@wasmb.org
SUMMARY:Sheridan Wyo Rodeo Parade
DESCRIPTION:
URL:https://wasmb.org/event/sheridan-wyo-rodeo-parade/
END:VEVENT
BEGIN:VEVENT
DTSTART;VALUE=DATE:20260724
DTEND;VALUE=DATE:20260726
DTSTAMP:20260423T095405
CREATED:20250815T192850Z
LAST-MODIFIED:20250815T192850Z
UID:232-1784851200-1785023999@wasmb.org
SUMMARY:Cheyenne Frontier Days Parade
DESCRIPTION:
URL:https://wasmb.org/event/cheyenne-frontier-days-parade/
END:VEVENT
END:VCALENDAR